BEGIN:VCALENDAR
VERSION:2.0
PRODID:-//Cedar Valley Regional Food &amp; Farm Network - ECPv6.15.20//NONSGML v1.0//EN
CALSCALE:GREGORIAN
METHOD:PUBLISH
X-WR-CALNAME:Cedar Valley Regional Food &amp; Farm Network
X-ORIGINAL-URL:https://cvfoodfarmnetwork.org
X-WR-CALDESC:Events for Cedar Valley Regional Food &amp; Farm Network
REFRESH-INTERVAL;VALUE=DURATION:PT1H
X-Robots-Tag:noindex
X-PUBLISHED-TTL:PT1H
BEGIN:VTIMEZONE
TZID:UTC
BEGIN:STANDARD
TZOFFSETFROM:+0000
TZOFFSETTO:+0000
TZNAME:UTC
DTSTART:20240101T000000
END:STANDARD
END:VTIMEZONE
BEGIN:VEVENT
DTSTART;TZID=UTC:20250404T180000
DTEND;TZID=UTC:20250404T210000
DTSTAMP:20260424T020534
CREATED:20250313T131330Z
LAST-MODIFIED:20250313T131330Z
UID:3159-1743789600-1743800400@cvfoodfarmnetwork.org
SUMMARY:Empty Bowls (Northeast Iowa Food Bank)
DESCRIPTION:There are still some tickets available for Empty Bowls! Check out the press release for more information: https://cdn.prod.website-files.com/…/67d1ae04c757b24988…\n\n\n\nTo purchase tickets\, visit neifb.org.\n\n\nSee you April 4th!\n\n\n\n#neifb #everymealeverydayeveryone #emptybowls2025 #emptybowls
URL:https://cvfoodfarmnetwork.org/event/empty-bowls-northeast-iowa-food-bank/
CATEGORIES:Partner Event
ATTACH;FMTTYPE=image/png:https://cvfoodfarmnetwork.org/wp-content/uploads/2025/03/Event-Calendar-Size.png
END:VEVENT
END:VCALENDAR